BEGIN:VCALENDAR
VERSION:2.0
PRODID:-//SC Empi - ECPv6.8.3//NONSGML v1.0//EN
CALSCALE:GREGORIAN
METHOD:PUBLISH
X-WR-CALNAME:SC Empi
X-ORIGINAL-URL:https://sc-empi.de
X-WR-CALDESC:Veranstaltungen für SC Empi
REFRESH-INTERVAL;VALUE=DURATION:PT1H
X-Robots-Tag:noindex
X-PUBLISHED-TTL:PT1H
BEGIN:VTIMEZONE
TZID:UTC
BEGIN:STANDARD
TZOFFSETFROM:+0000
TZOFFSETTO:+0000
TZNAME:UTC
DTSTART:20240101T000000
END:STANDARD
END:VTIMEZONE
BEGIN:VEVENT
DTSTART;TZID=UTC:20240526T100000
DTEND;TZID=UTC:20240526T183000
DTSTAMP:20260421T205140
CREATED:20240206T212028Z
LAST-MODIFIED:20240206T212028Z
UID:5762-1716717600-1716748200@sc-empi.de
SUMMARY:Family-Hero-Day
DESCRIPTION:Unser Sommer Familien Fest findet auch dieses Jahr wieder statt!\nSpiel\, Sport\, Spaß und Familienzeit! +Superheldenausbildung!
URL:https://sc-empi.de/calender/family-hero-day/
LOCATION:Empi Dojo\, Robert-Bosch Straße\, 22-24\, Nauen\, 14641\, Deutschland
CATEGORIES:Eventplan
ORGANIZER;CN="SC Empi e.V.":MAILTO:info@sc-empi.de
END:VEVENT
END:VCALENDAR