BEGIN:VCALENDAR
VERSION:2.0
PRODID:-//SC Empi - ECPv6.8.3//NONSGML v1.0//EN
CALSCALE:GREGORIAN
METHOD:PUBLISH
X-ORIGINAL-URL:https://sc-empi.de
X-WR-CALDESC:Veranstaltungen für SC Empi
REFRESH-INTERVAL;VALUE=DURATION:PT1H
X-Robots-Tag:noindex
X-PUBLISHED-TTL:PT1H
BEGIN:VTIMEZONE
TZID:UTC
BEGIN:STANDARD
TZOFFSETFROM:+0000
TZOFFSETTO:+0000
TZNAME:UTC
DTSTART:20240101T000000
END:STANDARD
END:VTIMEZONE
BEGIN:VEVENT
DTSTART;VALUE=DATE:20240323
DTEND;VALUE=DATE:20240324
DTSTAMP:20260422T000151
CREATED:20240206T211307Z
LAST-MODIFIED:20240206T211323Z
UID:5754-1711152000-1711238399@sc-empi.de
SUMMARY:Zwönitzthalpokal
DESCRIPTION:Karate Wettkampf
URL:https://sc-empi.de/calender/zwoenitzthalpokal/
LOCATION:Arena Burkhardtsdorf\, Am Topfmarkt 15\, Burkhardtsdorf\, 09235\, Deutschland
CATEGORIES:Eventplan
ORGANIZER;CN="Goju-Kai Kemtau e.V.":MAILTO:erzkarate@gmail.com
END:VEVENT
END:VCALENDAR