BEGIN:VCALENDAR
VERSION:2.0
PRODID:-//SC Empi - ECPv6.8.3//NONSGML v1.0//EN
CALSCALE:GREGORIAN
METHOD:PUBLISH
X-WR-CALNAME:SC Empi
X-ORIGINAL-URL:https://sc-empi.de
X-WR-CALDESC:Veranstaltungen für SC Empi
REFRESH-INTERVAL;VALUE=DURATION:PT1H
X-Robots-Tag:noindex
X-PUBLISHED-TTL:PT1H
BEGIN:VTIMEZONE
TZID:UTC
BEGIN:STANDARD
TZOFFSETFROM:+0000
TZOFFSETTO:+0000
TZNAME:UTC
DTSTART:20240101T000000
END:STANDARD
END:VTIMEZONE
BEGIN:VEVENT
DTSTART;VALUE=DATE:20240310
DTEND;VALUE=DATE:20240311
DTSTAMP:20260421T235722
CREATED:20240206T205145Z
LAST-MODIFIED:20240206T205145Z
UID:5742-1710028800-1710115199@sc-empi.de
SUMMARY:Gürtelprüfung
DESCRIPTION:Unsere SC Empi e.V. Gürtelprüfung steht wieder an!
URL:https://sc-empi.de/calender/guertelpruefung/
LOCATION:Empi Dojo\, Robert-Bosch Straße\, 22-24\, Nauen\, 14641\, Deutschland
CATEGORIES:Eventplan
ORGANIZER;CN="SC Empi e.V.":MAILTO:info@sc-empi.de
END:VEVENT
END:VCALENDAR