BEGIN:VCALENDAR
VERSION:2.0
PRODID:-//SC Empi - ECPv6.8.3//NONSGML v1.0//EN
CALSCALE:GREGORIAN
METHOD:PUBLISH
X-ORIGINAL-URL:https://sc-empi.de
X-WR-CALDESC:Veranstaltungen für SC Empi
REFRESH-INTERVAL;VALUE=DURATION:PT1H
X-Robots-Tag:noindex
X-PUBLISHED-TTL:PT1H
BEGIN:VTIMEZONE
TZID:Europe/Paris
BEGIN:DAYLIGHT
TZOFFSETFROM:+0100
TZOFFSETTO:+0200
TZNAME:CEST
DTSTART:20240331T010000
END:DAYLIGHT
BEGIN:STANDARD
TZOFFSETFROM:+0200
TZOFFSETTO:+0100
TZNAME:CET
DTSTART:20241027T010000
END:STANDARD
END:VTIMEZONE
BEGIN:VEVENT
DTSTART;VALUE=DATE:20240302
DTEND;VALUE=DATE:20240303
DTSTAMP:20260422T000243
CREATED:20240206T204510Z
LAST-MODIFIED:20240206T204510Z
UID:5735-1709337600-1709423999@sc-empi.de
SUMMARY:Hamburg Open
DESCRIPTION:Karate Wettkampf in Hamburg
URL:https://sc-empi.de/calender/hamburg-open/
LOCATION:SPORTHALLE WANDSBEK\, RÜTERSTRASSE 75\, Hamburg\, Hamburg\, 22041\, Deutschland
CATEGORIES:Eventplan
END:VEVENT
END:VCALENDAR